BEGIN:VCALENDAR
VERSION:2.0
PRODID:-//STU
CALSCALE:GREGORIAN
METHOD:PUBLISH
X-WR-CALNAME:STU
X-ORIGINAL-URL:https://www.nusta.edu.ua/en/event/vidbudetsya-iii-mizhnarodnyj-forum-ekonomichna-bezpeka-derzhavy-ta-biznesu-nova-filosofiya-partnerstva/
X-WR-CALDESC:Відбудеться ІІІ Міжнародний форум «Економічна безпека держави та бізнесу: нова філософія партнерства»
BEGIN:VEVENT
DTSTART:
DTEND:
SUMMARY:Відбудеться ІІІ Міжнародний форум «Економічна безпека держави та бізнесу: нова філософія партнерства»
DESCRIPTION:
LOCATION:
END:VEVENT
END:VCALENDAR
