BEGIN:VCALENDAR
VERSION:2.0
PRODID:-//STU
CALSCALE:GREGORIAN
METHOD:PUBLISH
X-WR-CALNAME:STU
X-ORIGINAL-URL:https://www.nusta.edu.ua/en/event/u-podatkovomu-vidbudetsya-onlajn-forum-osvityan-z-finansovoyi-gramotnosti-open-finance-time/
X-WR-CALDESC:У Податковому відбудеться онлайн-форум освітян з фінансової грамотності «Open Finance Time»
BEGIN:VEVENT
DTSTART:
DTEND:
SUMMARY:У Податковому відбудеться онлайн-форум освітян з фінансової грамотності «Open Finance Time»
DESCRIPTION:
LOCATION:
END:VEVENT
END:VCALENDAR
