BEGIN:VCALENDAR
VERSION:2.0
PRODID:-//STU
CALSCALE:GREGORIAN
METHOD:PUBLISH
X-WR-CALNAME:STU
X-ORIGINAL-URL:https://www.nusta.edu.ua/en/event/u-podatkovomu-startuye-akcziya-podaruj-biblioteczi-knygu/
X-WR-CALDESC:У Податковому стартує акція «Подаруй бібліотеці книгу»
BEGIN:VEVENT
DTSTART:
DTEND:
SUMMARY:У Податковому стартує акція «Подаруй бібліотеці книгу»
DESCRIPTION:
LOCATION:
END:VEVENT
END:VCALENDAR
