BEGIN:VCALENDAR
VERSION:2.0
PRODID:-//STU
CALSCALE:GREGORIAN
METHOD:PUBLISH
X-WR-CALNAME:STU
X-ORIGINAL-URL:https://www.nusta.edu.ua/en/event/8-lyutogo-vidbudetsya-seminar-z-pidvyshhennya-kvalifikacziyi-vid-ukrintei/
X-WR-CALDESC:8 лютого відбудеться семінар з підвищення кваліфікації від УкрІНТЕІ
BEGIN:VEVENT
DTSTART:
DTEND:
SUMMARY:8 лютого відбудеться семінар з підвищення кваліфікації від УкрІНТЕІ
DESCRIPTION:
LOCATION:
END:VEVENT
END:VCALENDAR
