BEGIN:VCALENDAR
VERSION:2.0
PRODID:-//STU
CALSCALE:GREGORIAN
METHOD:PUBLISH
X-WR-CALNAME:STU
X-ORIGINAL-URL:https://www.nusta.edu.ua/en/event/kafedra-kibernetyky-ta-prykladnoyi-matematyky-provodyt-internet-konkurs-integral/
X-WR-CALDESC:Кафедра кібернетики та прикладної математики проводить інтернет конкурс &#8220;Інтеграл&#8221;
BEGIN:VEVENT
DTSTART:
DTEND:
SUMMARY:Кафедра кібернетики та прикладної математики проводить інтернет конкурс &#8220;Інтеграл&#8221;
DESCRIPTION:
LOCATION:
END:VEVENT
END:VCALENDAR
